BEGIN:VCALENDAR
VERSION:2.0
PRODID:-//Plone.org//NONSGML plone.app.event//EN
X-WR-TIMEZONE:Europe/Rome
BEGIN:VEVENT
SUMMARY:Chirurgia Endoscopica Funzionale Naso-Sinusale 
DTSTART;VALUE=DATE-TIME:20131128T080000Z
DTEND;VALUE=DATE-TIME:20131129T173000Z
DTSTAMP;VALUE=DATE-TIME:20260421T063309Z
UID:a9bb00359ce5de8c90b722e11d86563c@127.0.0.1:8095
CATEGORIES:Workshop
CONTACT:051/765357
CREATED;VALUE=DATE-TIME:20131029T114026Z
DESCRIPTION:Workshop 
LAST-MODIFIED;VALUE=DATE-TIME:20140220T140639Z
LOCATION:Ospedale di Budrio - Via Benni\, 44
URL:https://www.ausl.bologna.it/eventi/archivio/auslevent.2013-10-29.52968
 77490
END:VEVENT
END:VCALENDAR
