BEGIN:VCALENDAR
VERSION:2.0
PRODID:-//Plone.org//NONSGML plone.app.event//EN
X-WR-TIMEZONE:Europe/Rome
BEGIN:VEVENT
SUMMARY:BIOETHICS\, MEDICAL ETHICS & HEALTH LAW: Towards the 21st Century
DTSTART;VALUE=DATE-TIME:20131118T230000Z
DTEND;VALUE=DATE-TIME:20131120T230000Z
DTSTAMP;VALUE=DATE-TIME:20260421T063313Z
UID:9b933886d8a11d0228c362c8068b9413@127.0.0.1:8095
CATEGORIES:Conferenza
CREATED;VALUE=DATE-TIME:20131028T152006Z
DESCRIPTION:UNESCO Chair in Bioethics 9th World Conference\n
LAST-MODIFIED;VALUE=DATE-TIME:20140220T140635Z
LOCATION:Centro Congressi Royal Continental Hotel - Napoli
URL:https://www.ausl.bologna.it/eventi/archivio/auslevent.2013-10-28.99798
 06297
END:VEVENT
END:VCALENDAR
