BEGIN:VCALENDAR
VERSION:2.0
PRODID:-//Plone.org//NONSGML plone.app.event//EN
X-WR-TIMEZONE:Europe/Rome
BEGIN:VEVENT
SUMMARY:GIOCARE E' UNA COSA SERIA 
DTSTART;VALUE=DATE-TIME:20131108T080000Z
DTEND;VALUE=DATE-TIME:20131108T120000Z
DTSTAMP;VALUE=DATE-TIME:20260421T063325Z
UID:55ebd9755f20fa1ed4159cfb69933dcd@127.0.0.1:8095
CREATED;VALUE=DATE-TIME:20131028T154732Z
DESCRIPTION:Percorso di in-formazione sul gioco d'azzardo
LAST-MODIFIED;VALUE=DATE-TIME:20140220T140637Z
LOCATION:Sala del Consiglio\, Quartiere Porto - Via dello Scalo\, 2 Bologn
 a 
URL:https://www.ausl.bologna.it/eventi/archivio/auslevent.2013-10-28.05183
 47392
END:VEVENT
END:VCALENDAR
