BEGIN:VCALENDAR
VERSION:2.0
PRODID:-//Plone.org//NONSGML plone.app.event//EN
X-WR-TIMEZONE:Europe/Rome
BEGIN:VEVENT
SUMMARY:Un futuro consapevole: comprendere per progredire. Ciclo di incont
 ri su neuroscienze\, libero arbitrio ed etica
DTSTART;VALUE=DATE-TIME:20131108T160000Z
DTEND;VALUE=DATE-TIME:20131108T173000Z
DTSTAMP;VALUE=DATE-TIME:20260421T063237Z
UID:78a2ffef57cca25e04ecf8165f1b8b7e@127.0.0.1:8095
CATEGORIES:Incontro
CONTACT:051/0251001
CREATED;VALUE=DATE-TIME:20131023T140830Z
DESCRIPTION:"La coscienza si misura?"
LAST-MODIFIED;VALUE=DATE-TIME:20140220T140634Z
LOCATION:Aula Magna del Dipartimento di Chimica "G. Ciamician" - Universit
 à di Bologna\, Via Selmi\, 2 - Bologna
URL:https://www.ausl.bologna.it/eventi/archivio/auslevent.2013-10-23.04210
 87807
END:VEVENT
END:VCALENDAR
