BEGIN:VCALENDAR
VERSION:2.0
PRODID:-//Plone.org//NONSGML plone.app.event//EN
X-WR-TIMEZONE:Europe/Rome
BEGIN:VEVENT
SUMMARY:Un futuro consapevole: comprendere per progredire. Ciclo di incont
 ri su neuroscienze\, libero arbitrio ed etica 
DTSTART;VALUE=DATE-TIME:20131011T150000Z
DTEND;VALUE=DATE-TIME:20131011T163000Z
DTSTAMP;VALUE=DATE-TIME:20260421T063314Z
UID:29aac52681e13b9f9ebaf154625db389@127.0.0.1:8095
CATEGORIES:Incontro
CONTACT:051/0251001
CREATED;VALUE=DATE-TIME:20131022T103353Z
DESCRIPTION:"So quel che fai? Tra mente e cervello"
LAST-MODIFIED;VALUE=DATE-TIME:20140220T140633Z
LOCATION:Aula Magna del Dipartimento di Chimica "G. Ciamician" - Universit
 à di Bologna\, Via Selmi\, 2 - Bologna 
URL:https://www.ausl.bologna.it/eventi/archivio/auslevent.2013-10-22.88616
 95539
END:VEVENT
END:VCALENDAR
