BEGIN:VCALENDAR
VERSION:2.0
PRODID:-//Plone.org//NONSGML plone.app.event//EN
X-WR-TIMEZONE:Europe/Rome
BEGIN:VEVENT
SUMMARY:Un futuro consapevole: comprendere per progredire. Ciclo di incont
 ri su neuroscienze\, libero arbitrio ed etica
DTSTART;VALUE=DATE-TIME:20131025T150000Z
DTEND;VALUE=DATE-TIME:20131025T163000Z
DTSTAMP;VALUE=DATE-TIME:20260421T063429Z
UID:2e381c20f1aa4480742f6d9c34211d8a@127.0.0.1:8095
CATEGORIES:Incontro
CONTACT:051/0251001
CREATED;VALUE=DATE-TIME:20131022T104213Z
DESCRIPTION:"Better living through chemicals"
LAST-MODIFIED;VALUE=DATE-TIME:20140220T140634Z
LOCATION:Aula Magna del Dipartimento di Chimica "G. Ciamician" - Universit
 à di Bologna\, Via Selmi\, 2 - Bologna
URL:https://www.ausl.bologna.it/eventi/archivio/auslevent.2013-10-22.27582
 20012
END:VEVENT
END:VCALENDAR
