BEGIN:VCALENDAR
VERSION:2.0
PRODID:-//Plone.org//NONSGML plone.app.event//EN
X-WR-TIMEZONE:Europe/Rome
BEGIN:VEVENT
SUMMARY:Diabete gestazionale e ipotiroidismo in gravidanza: due modelli di
  integrazione ospedale-territorio
DTSTART;VALUE=DATE-TIME:20131019T060000Z
DTEND;VALUE=DATE-TIME:20131019T143000Z
DTSTAMP;VALUE=DATE-TIME:20260421T063429Z
UID:66def086286b759a177ff421a9171538@127.0.0.1:8095
ATTENDEE;CN="Crediti ECM per Ginecologi, Endocrinologi/Diabetologi, Ostetr
 iche, Dietiste, MMG";ROLE=REQ-PARTICIPANT:Crediti ECM per Ginecologi, Endo
 crinologi/Diabetologi, Ostetriche, Dietiste, MMG
CATEGORIES:Convegno
CONTACT:info@mitcongressi.it
CREATED;VALUE=DATE-TIME:20131018T121551Z
DESCRIPTION:Convegno\n
LAST-MODIFIED;VALUE=DATE-TIME:20140220T140632Z
LOCATION:Bologna\, Savoia Hotel Regency
URL:https://www.ausl.bologna.it/eventi/archivio/auslevent.2013-10-18.36158
 90571
END:VEVENT
END:VCALENDAR
