BEGIN:VCALENDAR
VERSION:2.0
PRODID:-//Plone.org//NONSGML plone.app.event//EN
X-WR-TIMEZONE:Europe/Rome
BEGIN:VEVENT
SUMMARY:XII CONGRESSO COMLAS - SEMINARIO NAZIONALE SISMLA
DTSTART;VALUE=DATE-TIME:20131024T063000Z
DTEND;VALUE=DATE-TIME:20131026T140000Z
DTSTAMP;VALUE=DATE-TIME:20260421T063309Z
UID:d490527177e3ce117067532c8611bdba@127.0.0.1:8095
CATEGORIES:congresso
CREATED;VALUE=DATE-TIME:20131018T085834Z
DESCRIPTION:Medici legali a confronto
LAST-MODIFIED;VALUE=DATE-TIME:20140220T140631Z
LOCATION:Bologna\, Hotel Relais
URL:https://www.ausl.bologna.it/eventi/archivio/auslevent.2013-10-18.26776
 11130
END:VEVENT
END:VCALENDAR
