BEGIN:VCALENDAR
VERSION:2.0
PRODID:-//Plone.org//NONSGML plone.app.event//EN
X-WR-TIMEZONE:Europe/Rome
BEGIN:VEVENT
SUMMARY:I Sistemi Informativi Sanitari fra la persona assistita ed il Risk
  management
DTSTART;VALUE=DATE-TIME:20131206T080000Z
DTEND;VALUE=DATE-TIME:20131206T170000Z
DTSTAMP;VALUE=DATE-TIME:20260421T063309Z
UID:af41cfd42579944e12e7f3f8bbae3945@127.0.0.1:8095
CATEGORIES:Convegno
CREATED;VALUE=DATE-TIME:20131011T105611Z
LAST-MODIFIED;VALUE=DATE-TIME:20140220T140628Z
LOCATION:Bologna\, Aula Magna Padiglione Tinozzi Ospedale Bellaria\, via A
 ltura 5
URL:https://www.ausl.bologna.it/eventi/archivio/auslevent.2013-10-11.87483
 64960
END:VEVENT
END:VCALENDAR
