BEGIN:VCALENDAR
VERSION:2.0
PRODID:-//Plone.org//NONSGML plone.app.event//EN
X-WR-TIMEZONE:Europe/Rome
BEGIN:VEVENT
SUMMARY:Infezioni trasmissibili attraverso la trasfusione di sangue 
DTSTART;VALUE=DATE-TIME:20131025T090000Z
DTEND;VALUE=DATE-TIME:20131025T120000Z
DTSTAMP;VALUE=DATE-TIME:20260421T063456Z
UID:95f5bb599e488067e4d25509c57b8c83@127.0.0.1:8095
CATEGORIES:Incontro
CREATED;VALUE=DATE-TIME:20131009T103748Z
DESCRIPTION:Incontro scientifico Internazionale
LAST-MODIFIED;VALUE=DATE-TIME:20140220T140627Z
LOCATION:Auditorium Enzo Biagi Sala Borsa - Piazza del Nettuno\, 3 - Bolog
 na 
URL:https://www.ausl.bologna.it/eventi/archivio/auslevent.2013-10-09.27176
 21184
END:VEVENT
END:VCALENDAR
