BEGIN:VCALENDAR
VERSION:2.0
PRODID:-//Plone.org//NONSGML plone.app.event//EN
X-WR-TIMEZONE:Europe/Rome
BEGIN:VEVENT
SUMMARY:Multimorbosità. Implicazioni per la cura\, l'assistenza alla pers
 ona la ricerca e la formazione.
DTSTART;VALUE=DATE-TIME:20131126T080000Z
DTEND;VALUE=DATE-TIME:20131126T160000Z
DTSTAMP;VALUE=DATE-TIME:20260421T063456Z
UID:ac5413f076eed0a49bd337b6e72fd1c6@127.0.0.1:8095
ATTENDEE;CN="La partecipazione è gratuita";ROLE=REQ-PARTICIPANT:La partec
 ipazione è gratuita
CATEGORIES:Convegno
CREATED;VALUE=DATE-TIME:20131008T144238Z
DESCRIPTION:Convegno 
LAST-MODIFIED;VALUE=DATE-TIME:20140220T140626Z
LOCATION:Aula Giorgio Prodi Piazza San Giovanni in Monte\, 2 - Bologna 
URL:https://www.ausl.bologna.it/eventi/archivio/auslevent.2013-10-08.46913
 68081
END:VEVENT
END:VCALENDAR
