BEGIN:VCALENDAR
VERSION:2.0
PRODID:-//Plone.org//NONSGML plone.app.event//EN
X-WR-TIMEZONE:Europe/Rome
BEGIN:VEVENT
SUMMARY:Il contagio dell’Accoglienza
DTSTART;VALUE=DATE-TIME:20131012T063000Z
DTEND;VALUE=DATE-TIME:20131012T160000Z
DTSTAMP;VALUE=DATE-TIME:20260421T063326Z
UID:7f4cb1d51400a14992760bab85eeb8d1@127.0.0.1:8095
CATEGORIES:seminario
CONTACT:A.A.A.\, 051596099\, lrusso@ascinsieme.it
CREATED;VALUE=DATE-TIME:20131007T103500Z
DESCRIPTION:Lo sviluppo del Progetto A.A.A. Adozione\, Affido\, Accoglienz
 a
LAST-MODIFIED;VALUE=DATE-TIME:20140220T140625Z
LOCATION:Calcara\, Villa Nicolaj Via Mazzini\, 25 - Calcara\, Crespellano 
 (BO)
URL:https://www.ausl.bologna.it/eventi/archivio/auslevent.2013-10-07.47892
 89042
END:VEVENT
END:VCALENDAR
