BEGIN:VCALENDAR
VERSION:2.0
PRODID:-//Plone.org//NONSGML plone.app.event//EN
X-WR-TIMEZONE:Europe/Rome
BEGIN:VEVENT
SUMMARY:Grandangolo sullo stroke
DTSTART;VALUE=DATE-TIME:20131018T063000Z
DTEND;VALUE=DATE-TIME:20131018T143000Z
DTSTAMP;VALUE=DATE-TIME:20260421T063456Z
UID:fdcfdc1562592e2c69a799c5ead9eaf5@127.0.0.1:8095
CATEGORIES:Convegno
CREATED;VALUE=DATE-TIME:20131003T134741Z
DESCRIPTION:Ictus cerebrale\, competenze\, conoscenze\, percorsi
LAST-MODIFIED;VALUE=DATE-TIME:20140220T140623Z
LOCATION:Bologna\, hotel Savoia Regency
URL:https://www.ausl.bologna.it/eventi/archivio/auslevent.2013-10-03.51570
 23335
END:VEVENT
END:VCALENDAR
