BEGIN:VCALENDAR
VERSION:2.0
PRODID:-//Plone.org//NONSGML plone.app.event//EN
X-WR-TIMEZONE:Europe/Rome
BEGIN:VEVENT
SUMMARY:Nascita e primo sviluppo oggi
DTSTART;VALUE=DATE-TIME:20131011T060000Z
DTEND;VALUE=DATE-TIME:20131011T120000Z
DTSTAMP;VALUE=DATE-TIME:20260421T063314Z
UID:6d9a53d8658705385bc4e3a01c79789b@127.0.0.1:8095
CATEGORIES:Convegno
CONTACT:Marisa Marchesini\, marisa.marchesini@ausl.bologna.it
CREATED;VALUE=DATE-TIME:20131003T135952Z
DESCRIPTION:Nuovi bisogni e strategie d'intervento
LAST-MODIFIED;VALUE=DATE-TIME:20140220T140624Z
LOCATION:Bologna\, Auditorium Enzo Biagi\, piazza Nettuno 3
URL:https://www.ausl.bologna.it/eventi/archivio/auslevent.2013-10-03.23184
 20036
END:VEVENT
END:VCALENDAR
