BEGIN:VCALENDAR
VERSION:2.0
PRODID:-//Plone.org//NONSGML plone.app.event//EN
X-WR-TIMEZONE:Europe/Rome
BEGIN:VEVENT
SUMMARY:PROMUOVERE La cultura e la metodologia dell'AUTO MUTUO AIUTO per f
 acilitare l'avvio di gruppi 
DTSTART;VALUE=DATE-TIME:20131016T063000Z
DTEND;VALUE=DATE-TIME:20131017T150000Z
DTSTAMP;VALUE=DATE-TIME:20260421T063429Z
UID:a35337e15634c057df01071f87da53df@127.0.0.1:8095
CATEGORIES:corso
CONTACT:349/2346598
CREATED;VALUE=DATE-TIME:20130930T125943Z
DESCRIPTION:PIANURA EST
LAST-MODIFIED;VALUE=DATE-TIME:20140220T140113Z
LOCATION:Granarolo (BO) - Sala Polivalente\, Borgo dei Servizi - Via San D
 onato\, 74
URL:https://www.ausl.bologna.it/eventi/archivio/auslevent.2013-09-30.69755
 79255
END:VEVENT
END:VCALENDAR
