BEGIN:VCALENDAR
VERSION:2.0
PRODID:-//Plone.org//NONSGML plone.app.event//EN
X-WR-TIMEZONE:Europe/Rome
BEGIN:VEVENT
SUMMARY:PROMUOVERE La cultura e la metodologia dell'AUTO MUTUO AIUTO per f
 acilitare l'avvio di gruppi
DTSTART;VALUE=DATE-TIME:20131127T073000Z
DTEND;VALUE=DATE-TIME:20131128T160000Z
DTSTAMP;VALUE=DATE-TIME:20260421T063429Z
UID:daf98a9075f27116c4aad40b2d102f2a@127.0.0.1:8095
CATEGORIES:corso
CONTACT:051/6224330
CREATED;VALUE=DATE-TIME:20130930T131553Z
DESCRIPTION:S. LAZZARO
LAST-MODIFIED;VALUE=DATE-TIME:20140220T140114Z
LOCATION:Ozzano dell'Emilia (BO) - Biblioteca Comunale 8 marzo 1908 - Sala
  Città di Claterna Piazza Allende\, 8 
URL:https://www.ausl.bologna.it/eventi/archivio/auslevent.2013-09-30.63297
 09347
END:VEVENT
END:VCALENDAR
