BEGIN:VCALENDAR
VERSION:2.0
PRODID:-//Plone.org//NONSGML plone.app.event//EN
X-WR-TIMEZONE:Europe/Rome
BEGIN:VEVENT
SUMMARY:GIOVANI ADULTI  
DTSTART;VALUE=DATE-TIME:20131108T073000Z
DTEND;VALUE=DATE-TIME:20131108T121500Z
DTSTAMP;VALUE=DATE-TIME:20260421T063326Z
UID:b171f6a7cb29f635887f970dab1c7849@127.0.0.1:8095
CONTACT:luca.ghedini@ausl.bologna.it
CREATED;VALUE=DATE-TIME:20130930T140511Z
DESCRIPTION:Consumi\, sostanze e nuove dipendenze 
LAST-MODIFIED;VALUE=DATE-TIME:20140220T140622Z
LOCATION:Bologna - Piazza del Nettuo\, 3 - Sala Borsa Auditorium Biagi 
URL:https://www.ausl.bologna.it/eventi/archivio/auslevent.2013-09-30.41675
 13045
END:VEVENT
END:VCALENDAR
