BEGIN:VCALENDAR
VERSION:2.0
PRODID:-//Plone.org//NONSGML plone.app.event//EN
X-WR-TIMEZONE:Europe/Rome
BEGIN:VEVENT
SUMMARY:PROMUOVERE La cultura e la metodologia dell'AUTO MUTUO AIUTO per f
 acilitare l'avvio di gruppi
DTSTART;VALUE=DATE-TIME:20131106T073000Z
DTEND;VALUE=DATE-TIME:20131107T160000Z
DTSTAMP;VALUE=DATE-TIME:20260421T063314Z
UID:802127c445a49ff5ab8b9dc9b27b0b2b@127.0.0.1:8095
CATEGORIES:corso
CONTACT:347/4529477
CREATED;VALUE=DATE-TIME:20130930T130812Z
DESCRIPTION:CASALECCHIO - PORRETTA
LAST-MODIFIED;VALUE=DATE-TIME:20140220T140114Z
LOCATION:Casalecchio di Reno (BO) - Sede Polifunzionale Azienda USL di Bol
 ogna Aule A/B - Via Cimarosa\, 5/2
URL:https://www.ausl.bologna.it/eventi/archivio/auslevent.2013-09-30.26007
 08541
END:VEVENT
END:VCALENDAR
