BEGIN:VCALENDAR
VERSION:2.0
PRODID:-//Plone.org//NONSGML plone.app.event//EN
X-WR-TIMEZONE:Europe/Rome
BEGIN:VEVENT
SUMMARY:PROMUOVERE La cultura e la metodologia dell'AUTO MUTUO AIUTO per f
 acilitare l'avvio di gruppi
DTSTART;VALUE=DATE-TIME:20131113T073000Z
DTEND;VALUE=DATE-TIME:20131114T160000Z
DTSTAMP;VALUE=DATE-TIME:20260421T063548Z
UID:7c0189dfae9870714a0973bb3d8041f5@127.0.0.1:8095
CATEGORIES:corso
CONTACT:051/6599238
CREATED;VALUE=DATE-TIME:20130930T132401Z
DESCRIPTION:BOLOGNA
LAST-MODIFIED;VALUE=DATE-TIME:20140220T140620Z
LOCATION:Bologna - Comune di Bologna - Aule didattiche\, Settore Istruzion
 e - Via Cà Selvatica\, 7 
URL:https://www.ausl.bologna.it/eventi/archivio/auslevent.2013-09-30.23941
 77504
END:VEVENT
END:VCALENDAR
