BEGIN:VCALENDAR
VERSION:2.0
PRODID:-//Plone.org//NONSGML plone.app.event//EN
X-WR-TIMEZONE:Europe/Rome
BEGIN:VEVENT
SUMMARY:La TB nel 2013
DTSTART;VALUE=DATE-TIME:20131107T130000Z
DTEND;VALUE=DATE-TIME:20131107T170000Z
DTSTAMP;VALUE=DATE-TIME:20260421T063456Z
UID:a21a5293f1483f61e8d5c3a8452e1660@127.0.0.1:8095
CATEGORIES:corso
CREATED;VALUE=DATE-TIME:20130927T133336Z
DESCRIPTION:Corso 
LAST-MODIFIED;VALUE=DATE-TIME:20140220T140112Z
LOCATION:Aula Magna\, Ospedale Maggiore - Bologna  
URL:https://www.ausl.bologna.it/eventi/archivio/auslevent.2013-09-27.63872
 91310
END:VEVENT
END:VCALENDAR
