BEGIN:VCALENDAR
VERSION:2.0
PRODID:-//Plone.org//NONSGML plone.app.event//EN
X-WR-TIMEZONE:Europe/Rome
BEGIN:VEVENT
SUMMARY:Giornata nazionale dei Risvegli - Quindicesima edizione. Per la ri
 cerca sul coma - vale la pena. Quando l'ahimè diventa hai me
DTSTART;VALUE=DATE-TIME:20131006T220000Z
DTEND;VALUE=DATE-TIME:20131008T220000Z
DTSTAMP;VALUE=DATE-TIME:20260421T063429Z
UID:c025f94fa25a60170af6b4dcc68e61f8@127.0.0.1:8095
CATEGORIES:Meeting
CREATED;VALUE=DATE-TIME:20130926T142118Z
DESCRIPTION:Progetto L.U.C.A. "Link united for Coma Awakenings" - 1° Meet
 ing Internazionale \n
LAST-MODIFIED;VALUE=DATE-TIME:20140220T140111Z
LOCATION:Bologna - Casa dei Risvegli Luca De Nigris Via Gaist\, 6  
URL:https://www.ausl.bologna.it/eventi/archivio/auslevent.2013-09-26.79140
 87699
END:VEVENT
END:VCALENDAR
