BEGIN:VCALENDAR
VERSION:2.0
PRODID:-//Plone.org//NONSGML plone.app.event//EN
X-WR-TIMEZONE:Europe/Rome
BEGIN:VEVENT
SUMMARY:Giornata nazionale dei Risvegli - Quindicesima edizione. Per la ri
 cerca sul coma - vale la pena. Quando l'ahimè diventa hai me
DTSTART;VALUE=DATE-TIME:20131012T070000Z
DTEND;VALUE=DATE-TIME:20131012T113000Z
DTSTAMP;VALUE=DATE-TIME:20260421T063325Z
UID:7f9abe777bd7c577b184b1fb94cdc83b@127.0.0.1:8095
CATEGORIES:Workshop
CONTACT:051/6494570
CREATED;VALUE=DATE-TIME:20130926T142835Z
DESCRIPTION:Dopo lo stato vegetativo: le complicanze tardive nelle gravi c
 erebrolesioni acquisite 
LAST-MODIFIED;VALUE=DATE-TIME:20140220T140111Z
LOCATION:Bologna - Cappella Farnese Piazza Maggiore\, 6 
URL:https://www.ausl.bologna.it/eventi/archivio/auslevent.2013-09-26.52000
 93253
END:VEVENT
END:VCALENDAR
