BEGIN:VCALENDAR
VERSION:2.0
PRODID:-//Plone.org//NONSGML plone.app.event//EN
X-WR-TIMEZONE:Europe/Rome
BEGIN:VEVENT
SUMMARY:Giornata nazionale dei Risvegli - Quindicesima edizione. Per la ri
 cerca sul coma - vale la pena. Quando l'ahimè diventa hai me
DTSTART;VALUE=DATE-TIME:20131011T070000Z
DTEND;VALUE=DATE-TIME:20131011T143000Z
DTSTAMP;VALUE=DATE-TIME:20260421T063238Z
UID:104115b615f75fd6741117e6bff9a820@127.0.0.1:8095
CREATED;VALUE=DATE-TIME:20130925T133945Z
DESCRIPTION:Con noi e dopo di noi. Assistenza e presa in carico delle pers
 one in stato di minore responsività tra SUAP e domicilio. Aspetti sanitar
 i\, etico-giuridici\, gestionali e sociali 
LAST-MODIFIED;VALUE=DATE-TIME:20140220T140107Z
LOCATION:Bologna Villa Pallavicini - Via M. E. Lepido\, 196 
URL:https://www.ausl.bologna.it/eventi/archivio/auslevent.2013-09-25.56760
 19621
END:VEVENT
END:VCALENDAR
