BEGIN:VCALENDAR
VERSION:2.0
PRODID:-//Plone.org//NONSGML plone.app.event//EN
X-WR-TIMEZONE:Europe/Rome
BEGIN:VEVENT
SUMMARY:Giornata nazionale dei Risvegli - Quindicesima edizione. Per la ri
 cerca sul coma - vale la pena. Quando l'ahimè diventa hai me  
DTSTART;VALUE=DATE-TIME:20131007T190000Z
DTEND;VALUE=DATE-TIME:20131007T210000Z
DTSTAMP;VALUE=DATE-TIME:20260421T063548Z
UID:499118d07c7a0a52f358a50732872986@127.0.0.1:8095
CATEGORIES:Spettacolo teatrale
CONTACT:051/6494570
CREATED;VALUE=DATE-TIME:20130925T125647Z
DESCRIPTION:Gli Amici di Luca e il Teatro dell'Argine presentano: "Il paes
 e delle meraviglie Wonderland e altre storie" 
LAST-MODIFIED;VALUE=DATE-TIME:20140220T140106Z
LOCATION:Teatro Arena del Sole - Via Indipendenza\, 44 Bologna 
URL:https://www.ausl.bologna.it/eventi/archivio/auslevent.2013-09-25.37225
 09822
END:VEVENT
END:VCALENDAR
