BEGIN:VCALENDAR
VERSION:2.0
PRODID:-//Plone.org//NONSGML plone.app.event//EN
X-WR-TIMEZONE:Europe/Rome
BEGIN:VEVENT
SUMMARY:LA TEATRALITA' DELL'ECOGRAFIA 
DTSTART;VALUE=DATE-TIME:20131122T120000Z
DTEND;VALUE=DATE-TIME:20131123T170000Z
DTSTAMP;VALUE=DATE-TIME:20260421T063455Z
UID:80cdec833a6512851db9a7bf607e4eb2@127.0.0.1:8095
CATEGORIES:corso
CONTACT:051/236895\, info@fc-eventi.com
CREATED;VALUE=DATE-TIME:20130925T120540Z
DESCRIPTION:Dalla tibio-tarsica al piede 
LAST-MODIFIED;VALUE=DATE-TIME:20140220T140104Z
LOCATION:Teatro Comunale di San Giovanni in Persiceto (BO) 
URL:https://www.ausl.bologna.it/eventi/archivio/auslevent.2013-09-25.27084
 10744
END:VEVENT
END:VCALENDAR
