BEGIN:VCALENDAR
VERSION:2.0
PRODID:-//Plone.org//NONSGML plone.app.event//EN
X-WR-TIMEZONE:Europe/Rome
BEGIN:VEVENT
SUMMARY:Giornata nazionale dei Risvegli - Quindicesima edizione. Per la ri
 cerca sul coma - vale la pena. Quando l'ahimè diventa hai me
DTSTART;VALUE=DATE-TIME:20131007T070000Z
DTEND;VALUE=DATE-TIME:20131007T103000Z
DTSTAMP;VALUE=DATE-TIME:20260421T063429Z
UID:553664d172d4eeb0ffd29ceda4a11c37@127.0.0.1:8095
CATEGORIES:Festa
CREATED;VALUE=DATE-TIME:20130925T135524Z
DESCRIPTION:Momenti di festa alla Casa dei Risvegli di Luca De Nigris 
LAST-MODIFIED;VALUE=DATE-TIME:20140220T140108Z
LOCATION:Bologna\, Casa dei Risvegli - Via Gaist\, 6
URL:https://www.ausl.bologna.it/eventi/archivio/auslevent.2013-09-25.10522
 59600
END:VEVENT
END:VCALENDAR
