BEGIN:VCALENDAR
VERSION:2.0
PRODID:-//Plone.org//NONSGML plone.app.event//EN
X-WR-TIMEZONE:Europe/Rome
BEGIN:VEVENT
SUMMARY:Allattiamo insieme a Bologna
DTSTART;VALUE=DATE-TIME:20131005T150000Z
DTEND;VALUE=DATE-TIME:20131005T160000Z
DTSTAMP;VALUE=DATE-TIME:20260421T063449Z
UID:2ff3e451c36651e2d45e596a7920204e@127.0.0.1:8095
CREATED;VALUE=DATE-TIME:20130925T100035Z
DESCRIPTION:Flash-mob il 5 ottobre nelle piazze dell'Emilia-Romagna 
LAST-MODIFIED;VALUE=DATE-TIME:20140220T140104Z
LOCATION:Bologna\, Palazzo d'Accursio
URL:https://www.ausl.bologna.it/eventi/archivio/auslevent.2013-09-25.10258
 18298
END:VEVENT
END:VCALENDAR
