BEGIN:VCALENDAR
VERSION:2.0
PRODID:-//Plone.org//NONSGML plone.app.event//EN
X-WR-TIMEZONE:Europe/Rome
BEGIN:VEVENT
SUMMARY:Allattiamo insieme a Casalecchio di Reno
DTSTART;VALUE=DATE-TIME:20131005T150000Z
DTEND;VALUE=DATE-TIME:20131005T160000Z
DTSTAMP;VALUE=DATE-TIME:20260421T063449Z
UID:bafda4c0a83441b67710f5008e97962e@127.0.0.1:8095
CREATED;VALUE=DATE-TIME:20130924T124747Z
DESCRIPTION:Flash-mob il 5 ottobre nelle piazze dell'Emilia-Romagna 
LAST-MODIFIED;VALUE=DATE-TIME:20140220T140104Z
LOCATION:Casalecchio di Reno\, Casa della Conoscenza
URL:https://www.ausl.bologna.it/eventi/archivio/auslevent.2013-09-24.73839
 13123
END:VEVENT
END:VCALENDAR
