BEGIN:VCALENDAR
VERSION:2.0
PRODID:-//Plone.org//NONSGML plone.app.event//EN
X-WR-TIMEZONE:Europe/Rome
BEGIN:VEVENT
SUMMARY:Allattiamo insieme a San Lazzaro di Savena
DTSTART;VALUE=DATE-TIME:20131005T140000Z
DTEND;VALUE=DATE-TIME:20131005T150000Z
DTSTAMP;VALUE=DATE-TIME:20260421T063449Z
UID:77bdf0b474f0eb4057d9305f9849be1a@127.0.0.1:8095
CREATED;VALUE=DATE-TIME:20130924T124516Z
DESCRIPTION:Flash-mob il 5 ottobre nelle piazze dell'Emilia-Romagna 
LAST-MODIFIED;VALUE=DATE-TIME:20140220T140104Z
LOCATION:San Lazzaro di Savena\, Parco 2 Agosto
URL:https://www.ausl.bologna.it/eventi/archivio/auslevent.2013-09-24.48381
 84587
END:VEVENT
END:VCALENDAR
