BEGIN:VCALENDAR
VERSION:2.0
PRODID:-//Plone.org//NONSGML plone.app.event//EN
X-WR-TIMEZONE:Europe/Rome
BEGIN:VEVENT
SUMMARY:Viva!
DTSTART;VALUE=DATE-TIME:20131019T080000Z
DTEND;VALUE=DATE-TIME:20131019T160000Z
DTSTAMP;VALUE=DATE-TIME:20260421T063325Z
UID:a2fac7e32d7f51ffc60bebab326c84c9@127.0.0.1:8095
CONTACT:Azienda USL di Bologna
CREATED;VALUE=DATE-TIME:20130924T103523Z
DESCRIPTION:La vita nelle tue mani
LAST-MODIFIED;VALUE=DATE-TIME:20140220T140103Z
LOCATION:Bologna\, Piazza Maggiore
URL:https://www.ausl.bologna.it/eventi/archivio/auslevent.2013-09-24.34086
 76542
END:VEVENT
END:VCALENDAR
