BEGIN:VCALENDAR
VERSION:2.0
PRODID:-//Plone.org//NONSGML plone.app.event//EN
X-WR-TIMEZONE:Europe/Rome
BEGIN:VEVENT
SUMMARY:DEMENZA: assistere\, scegliere\, decidere 
DTSTART;VALUE=DATE-TIME:20130921T064500Z
DTEND;VALUE=DATE-TIME:20130921T110000Z
DTSTAMP;VALUE=DATE-TIME:20260421T063548Z
UID:9391cf9bbf927f9362d34c9231054365@127.0.0.1:8095
CATEGORIES:seminario
CONTACT:0542/604253\, associazione@alzheimerimola.it
CREATED;VALUE=DATE-TIME:20130919T101721Z
DESCRIPTION:Dalla definizione del quadro clinico alle decisioni per la tut
 ela della persona 
LAST-MODIFIED;VALUE=DATE-TIME:20140220T140102Z
LOCATION:Imola (BO) - Palazzo Sersanti - Piazza Matteotti\, 8 
URL:https://www.ausl.bologna.it/eventi/archivio/auslevent.2013-09-19.51766
 75967
END:VEVENT
END:VCALENDAR
