BEGIN:VCALENDAR
VERSION:2.0
PRODID:-//Plone.org//NONSGML plone.app.event//EN
X-WR-TIMEZONE:Europe/Rome
BEGIN:VEVENT
SUMMARY:14° Workshop Endoscopic transsphenoidal surgery: from pituitary t
 o skull base 
DTSTART;VALUE=DATE-TIME:20130930T063000Z
DTEND;VALUE=DATE-TIME:20131001T160000Z
DTSTAMP;VALUE=DATE-TIME:20260421T063309Z
UID:4c53746eef9c8661cbff5d39a5834927@127.0.0.1:8095
CATEGORIES:Workshop
CONTACT:info@csrcongressi.com
CREATED;VALUE=DATE-TIME:20130916T122734Z
DESCRIPTION:LIVE SURGERY
LAST-MODIFIED;VALUE=DATE-TIME:20140220T140101Z
LOCATION:Bologna\, Ospedale Bellaria
URL:https://www.ausl.bologna.it/eventi/archivio/auslevent.2013-09-16.61089
 63969
END:VEVENT
END:VCALENDAR
