BEGIN:VCALENDAR
VERSION:2.0
PRODID:-//Plone.org//NONSGML plone.app.event//EN
X-WR-TIMEZONE:Europe/Rome
BEGIN:VEVENT
SUMMARY:Crisi e stress\, quali fattori di cambiamento
DTSTART;VALUE=DATE-TIME:20131010T063000Z
DTEND;VALUE=DATE-TIME:20131011T160000Z
DTSTAMP;VALUE=DATE-TIME:20260421T063314Z
UID:e3b4de8a4ed6ce45fa18ca592fdf46e8@127.0.0.1:8095
ATTENDEE;CN="Infermieri, fisioterapisti, medici (tutte le discipline), psi
 cologi, educatore professionali, assistente sanitario";ROLE=REQ-PARTICIPAN
 T:Infermieri, fisioterapisti, medici (tutte le discipline), psicologi, edu
 catore professionali, assistente sanitario
CATEGORIES:Aggiornamento
CONTACT:ecm@studioinfermieristicocecchetto.it
CREATED;VALUE=DATE-TIME:20130912T140928Z
DESCRIPTION:L'operatore protagonista di innovazione in un servizio per anz
 iani
LAST-MODIFIED;VALUE=DATE-TIME:20140220T140100Z
LOCATION:Bologna\, Sede Collegio Ipasvi
URL:https://www.ausl.bologna.it/eventi/archivio/auslevent.2013-09-12.48037
 33541
END:VEVENT
END:VCALENDAR
