BEGIN:VCALENDAR
VERSION:2.0
PRODID:-//Plone.org//NONSGML plone.app.event//EN
X-WR-TIMEZONE:Europe/Rome
BEGIN:VEVENT
SUMMARY:Tra dipendenza e indipendenza 
DTSTART;VALUE=DATE-TIME:20131011T073000Z
DTEND;VALUE=DATE-TIME:20131011T120000Z
DTSTAMP;VALUE=DATE-TIME:20260421T063429Z
UID:0dbbf09af9dbd697eb95dc79eb12142c@127.0.0.1:8095
CATEGORIES:Convegno
CREATED;VALUE=DATE-TIME:20130906T142909Z
DESCRIPTION:Consumi\, consumi problematici e dipendenze con e senza sostan
 ze 
LAST-MODIFIED;VALUE=DATE-TIME:20140220T140059Z
LOCATION:Aula Magna\, Dipartimento di Scienze dell'Educazione\, Universit
 à di Bologna Via Filippo Re\, 6 - Bologna
URL:https://www.ausl.bologna.it/eventi/archivio/auslevent.2013-09-06.41659
 91725
END:VEVENT
END:VCALENDAR
