BEGIN:VCALENDAR
VERSION:2.0
PRODID:-//Plone.org//NONSGML plone.app.event//EN
X-WR-TIMEZONE:Europe/Rome
BEGIN:VEVENT
SUMMARY:Demenze e cure primarie. Qualità e appropriatezza delle cure
DTSTART;VALUE=DATE-TIME:20130914T063000Z
DTEND;VALUE=DATE-TIME:20130914T143000Z
DTSTAMP;VALUE=DATE-TIME:20260421T063449Z
UID:9e4eaa447bb67b9ba03875c736e67fc9@127.0.0.1:8095
CATEGORIES:Convegno
CONTACT:Momeda Eventi\, 051 5876729\, info@momedaeventi.com
CREATED;VALUE=DATE-TIME:20130905T121355Z
DESCRIPTION:Convegno
LAST-MODIFIED;VALUE=DATE-TIME:20140220T135603Z
LOCATION:Bologna\, Salone Convegni - I Portici Hotel\, via Indipendenza 69
URL:https://www.ausl.bologna.it/eventi/archivio/auslevent.2013-09-05.72441
 42871
END:VEVENT
END:VCALENDAR
