BEGIN:VCALENDAR
VERSION:2.0
PRODID:-//Plone.org//NONSGML plone.app.event//EN
X-WR-TIMEZONE:Europe/Rome
BEGIN:VEVENT
SUMMARY:Alzheimer oggi. Un nuovo approccio alla demenza
DTSTART;VALUE=DATE-TIME:20130918T070000Z
DTEND;VALUE=DATE-TIME:20130918T160000Z
DTSTAMP;VALUE=DATE-TIME:20260421T063449Z
UID:a17bb7377285224217f3308d7e8a2377@127.0.0.1:8095
ATTENDEE;CN="BIOLOGO,  PSICOLOGO, MEDICO CHIRURGO, INFERMIERE, EDUCATORE P
 ROFESSIONALE";ROLE=REQ-PARTICIPANT:BIOLOGO,  PSICOLOGO, MEDICO CHIRURGO, I
 NFERMIERE, EDUCATORE PROFESSIONALE
CATEGORIES:Convegno
CONTACT:Maria Grazia Giordano\, giordanomg@tiscalinet.it
CREATED;VALUE=DATE-TIME:20130904T091538Z
DESCRIPTION:Il modello biopsicosociale: prevenzione\, diagnosi e cura dell
 a malattia di Alzheimer. Assistere il malato e supportare il caregiver: l
 ’O.M.A.D – l’Operatore per i malati di Alzheimer ed altre forme di d
 emenza.\n
LAST-MODIFIED;VALUE=DATE-TIME:20140220T135600Z
LOCATION:Roma\, Auditorium del Ministero della Salute
URL:https://www.ausl.bologna.it/eventi/archivio/auslevent.2013-09-04.85690
 93118
END:VEVENT
END:VCALENDAR
