BEGIN:VCALENDAR
VERSION:2.0
PRODID:-//Plone.org//NONSGML plone.app.event//EN
X-WR-TIMEZONE:Europe/Rome
BEGIN:VEVENT
SUMMARY:Vecchi e nuovi saperi dei professionisti che svolgono attività di
  consulenza ai Viaggiatori Internazionali
DTSTART;VALUE=DATE-TIME:20130925T063000Z
DTEND;VALUE=DATE-TIME:20130925T150000Z
DTSTAMP;VALUE=DATE-TIME:20260421T063313Z
UID:ba5b6e5f78a0ea51c63d85ef3a3a39d9@127.0.0.1:8095
ATTENDEE;CN="Medici specialisti in Igiene e medicina preventiva, Assistent
 i sanitari, Infermieri, Pediatri di comunità";ROLE=REQ-PARTICIPANT:Medici
  specialisti in Igiene e medicina preventiva, Assistenti sanitari, Infermi
 eri, Pediatri di comunità
CATEGORIES:corso
CONTACT:Nicola Bossio\, tel. 051 6079761 fax 051/6079704\, n.bossio@ausl.b
 o.it
CREATED;VALUE=DATE-TIME:20130904T082406Z
LAST-MODIFIED;VALUE=DATE-TIME:20130904T090553Z
LOCATION:Regione Emilia‐Romagna Sala Auditorium Viale Aldo Moro\, 18
URL:https://www.ausl.bologna.it/eventi/archivio/auslevent.2013-09-04.68903
 79617
END:VEVENT
END:VCALENDAR
