BEGIN:VCALENDAR
VERSION:2.0
PRODID:-//Plone.org//NONSGML plone.app.event//EN
X-WR-TIMEZONE:Europe/Rome
BEGIN:VEVENT
SUMMARY:Prendersi cura della Casa della Salute\, bene comune
DTSTART;VALUE=DATE-TIME:20130926T120000Z
DTEND;VALUE=DATE-TIME:20130927T160000Z
DTSTAMP;VALUE=DATE-TIME:20260421T063326Z
UID:04ebb03fb8f67108269d303b3b358e95@127.0.0.1:8095
CATEGORIES:Convegno
CONTACT:Segreteria Organizzativa\, 340 7790651\, info@fondazionesantacleli
 a.it
CREATED;VALUE=DATE-TIME:20130904T095535Z
DESCRIPTION:IX edizione delle Giornate di Studio del Corno alle Scale\n
LAST-MODIFIED;VALUE=DATE-TIME:20140220T135602Z
LOCATION:Bologna\, Casa della Misericordia
URL:https://www.ausl.bologna.it/eventi/archivio/auslevent.2013-09-04.49957
 01622
END:VEVENT
END:VCALENDAR
