BEGIN:VCALENDAR
VERSION:2.0
PRODID:-//Plone.org//NONSGML plone.app.event//EN
X-WR-TIMEZONE:Europe/Rome
BEGIN:VEVENT
SUMMARY:L'esperienza della psicoanalisi 
DTSTART;VALUE=DATE-TIME:20131004T123000Z
DTEND;VALUE=DATE-TIME:20131005T150000Z
DTSTAMP;VALUE=DATE-TIME:20260421T063326Z
UID:00b57bef42bf3cbfd6de9a48bb91605e@127.0.0.1:8095
CATEGORIES:Convegno
CONTACT:convegno2013@alidipsicoanalisi.it
CREATED;VALUE=DATE-TIME:20130903T141948Z
DESCRIPTION:Il Convegno nazionale di ALIpsi
LAST-MODIFIED;VALUE=DATE-TIME:20140220T135559Z
LOCATION:Bologna - Via Indipendenza\, 69 - Salone delle feste\, I Portici 
 Hotel  
URL:https://www.ausl.bologna.it/eventi/archivio/auslevent.2013-09-03.20875
 53949
END:VEVENT
END:VCALENDAR
