BEGIN:VCALENDAR
VERSION:2.0
PRODID:-//Plone.org//NONSGML plone.app.event//EN
X-WR-TIMEZONE:Europe/Rome
BEGIN:VEVENT
SUMMARY:Cronicità\, demenza\, fasi avanzate della vita 
DTSTART;VALUE=DATE-TIME:20130921T063000Z
DTEND;VALUE=DATE-TIME:20130921T143000Z
DTSTAMP;VALUE=DATE-TIME:20260421T063456Z
UID:f7ec23dbe94b8dc571c03e7beabf878c@127.0.0.1:8095
CATEGORIES:Convegno
CONTACT:Fabio Michelini\, 051/6597133\, fabio.michelini@ausl.bologna.it
CREATED;VALUE=DATE-TIME:20130812T154348Z
DESCRIPTION:Convegno 
LAST-MODIFIED;VALUE=DATE-TIME:20140220T135544Z
LOCATION:Bologna\, Aula Magna Ospedale Bellaria\, via Altura\, 3
URL:https://www.ausl.bologna.it/eventi/archivio/auslevent.2013-08-12.61923
 03800
END:VEVENT
END:VCALENDAR
