BEGIN:VCALENDAR
VERSION:2.0
PRODID:-//Plone.org//NONSGML plone.app.event//EN
X-WR-TIMEZONE:Europe/Rome
BEGIN:VEVENT
SUMMARY:Incontriamoci a tavola 
DTSTART;VALUE=DATE-TIME:20130830T220000Z
DTEND;VALUE=DATE-TIME:20130831T220000Z
DTSTAMP;VALUE=DATE-TIME:20260421T063449Z
UID:b57a64ebb29831bd9ffd273f102fd25d@127.0.0.1:8095
CONTACT:051/19872051\, amiss_bologna@yahoo.it
CREATED;VALUE=DATE-TIME:20130812T132827Z
DESCRIPTION:Corso interattivo di cucina/lingua italiana per straniere/i im
 pegnati nei percorsi di cura alla persona 
LAST-MODIFIED;VALUE=DATE-TIME:20140220T135543Z
LOCATION:Centro Sociale Saffi Via L. Berti\, 2/8 - Bologna 
URL:https://www.ausl.bologna.it/eventi/archivio/auslevent.2013-08-12.43791
 19529
END:VEVENT
END:VCALENDAR
