BEGIN:VCALENDAR
VERSION:2.0
PRODID:-//Plone.org//NONSGML plone.app.event//EN
X-WR-TIMEZONE:Europe/Rome
BEGIN:VEVENT
SUMMARY:La nascita di un bambino con Labio-Palato-Schisi. Alimentazione\, 
 deglutizione\, linguaggio
DTSTART;VALUE=DATE-TIME:20130920T070000Z
DTEND;VALUE=DATE-TIME:20130920T150000Z
DTSTAMP;VALUE=DATE-TIME:20260421T063308Z
UID:16f4ba6cb93502acd3863d5c0c3af0a4@127.0.0.1:8095
CATEGORIES:Convegno
CONTACT:Vanessa Cioni\, 051-6241343\, corsi@edizionimartina.com
CREATED;VALUE=DATE-TIME:20130731T130856Z
LAST-MODIFIED;VALUE=DATE-TIME:20140220T135541Z
LOCATION:Bologna\, Auditorium Regione Emilia-Romagna\, viale Aldo Moro 18
URL:https://www.ausl.bologna.it/eventi/archivio/auslevent.2013-07-31.35477
 31601
END:VEVENT
END:VCALENDAR
