BEGIN:VCALENDAR
VERSION:2.0
PRODID:-//Plone.org//NONSGML plone.app.event//EN
X-WR-TIMEZONE:Europe/Rome
BEGIN:VEVENT
SUMMARY:Internet\, la sanità e il welfare dei cittadini
DTSTART;VALUE=DATE-TIME:20130910T073000Z
DTEND;VALUE=DATE-TIME:20130910T113000Z
DTSTAMP;VALUE=DATE-TIME:20260421T063314Z
UID:8b3ffecaeed89afeb62e158d5d8165a2@127.0.0.1:8095
CATEGORIES:Convegno
CONTACT:comunicazione@cup2000.it
CREATED;VALUE=DATE-TIME:20130723T091736Z
DESCRIPTION:L’attualità del pensiero socio-tecnico di Achille Ardigò
LAST-MODIFIED;VALUE=DATE-TIME:20140220T135540Z
LOCATION:Bologna
URL:https://www.ausl.bologna.it/eventi/archivio/auslevent.2013-07-23.88995
 38647
END:VEVENT
END:VCALENDAR
