BEGIN:VCALENDAR
VERSION:2.0
PRODID:-//Plone.org//NONSGML plone.app.event//EN
X-WR-TIMEZONE:Europe/Rome
BEGIN:VEVENT
SUMMARY:3° Congresso per infermieri di camera operatoria
DTSTART;VALUE=DATE-TIME:20130927T060000Z
DTEND;VALUE=DATE-TIME:20130928T114000Z
DTSTAMP;VALUE=DATE-TIME:20260421T063429Z
UID:bd546a9a86a992196868e0fe02cce43a@127.0.0.1:8095
CATEGORIES:congresso
CONTACT:Giancarlo Guidi\, 335 5600380\, convegnosalaoperatoria@gmail.com
CREATED;VALUE=DATE-TIME:20130619T131301Z
DESCRIPTION:Nursing peri operatorio: tecniche chirurgiche e management inf
 ermieristico
LAST-MODIFIED;VALUE=DATE-TIME:20140220T135539Z
LOCATION:San Marino\, Centro Congressi Hotel Palace\, via Cinque febbraio 
 3 - Serravalle (RSM)
URL:https://www.ausl.bologna.it/eventi/archivio/auslevent.2013-06-19.42326
 01759
END:VEVENT
END:VCALENDAR
