BEGIN:VCALENDAR
VERSION:2.0
PRODID:-//Plone.org//NONSGML plone.app.event//EN
X-WR-TIMEZONE:Europe/Rome
BEGIN:VEVENT
SUMMARY:'Stili di vita e salute'\, alimentazione e  meditazione per il cor
 po e la mente  
DTSTART;VALUE=DATE-TIME:20130620T160000Z
DTEND;VALUE=DATE-TIME:20130620T180000Z
DTSTAMP;VALUE=DATE-TIME:20260421T063325Z
UID:8d31f86e25507aeb447481fc80b220d1@127.0.0.1:8095
CATEGORIES:Tavola rotonda
CREATED;VALUE=DATE-TIME:20130618T122653Z
DESCRIPTION:Tavola rotonda
LAST-MODIFIED;VALUE=DATE-TIME:20130904T090108Z
LOCATION: a palazzo Malvezzi\, via Zamboni 13
URL:https://www.ausl.bologna.it/eventi/archivio/auslevent.2013-06-18.30065
 90719
END:VEVENT
END:VCALENDAR
