BEGIN:VCALENDAR
VERSION:2.0
PRODID:-//Plone.org//NONSGML plone.app.event//EN
X-WR-TIMEZONE:Europe/Rome
BEGIN:VEVENT
SUMMARY:Nascere a Bentivoglio
DTSTART;VALUE=DATE-TIME:20130625T123000Z
DTEND;VALUE=DATE-TIME:20130625T143000Z
DTSTAMP;VALUE=DATE-TIME:20260421T063308Z
UID:7bbe3c2c59ec6f3e4e005a90e32c9f3b@127.0.0.1:8095
CATEGORIES:Incontro
CONTACT:Patrizia Girotti\, patrizia.girotti@ausl.bologna.it
CREATED;VALUE=DATE-TIME:20130618T080001Z
DESCRIPTION:La presentazione del Punto Nascita alle future mamme
LAST-MODIFIED;VALUE=DATE-TIME:20130904T081918Z
LOCATION:Bentivoglio\, Ospedale Consorziale
URL:https://www.ausl.bologna.it/eventi/archivio/auslevent.2013-06-18.26387
 73015
END:VEVENT
END:VCALENDAR
