BEGIN:VCALENDAR
VERSION:2.0
PRODID:-//Plone.org//NONSGML plone.app.event//EN
X-WR-TIMEZONE:Europe/Rome
BEGIN:VEVENT
SUMMARY:Cambiamento climatico\, pollini e salute.
DTSTART;VALUE=DATE-TIME:20130610T070000Z
DTEND;VALUE=DATE-TIME:20130610T110000Z
DTSTAMP;VALUE=DATE-TIME:20260421T063309Z
UID:503f67992138da56eca68896a6ed7cbe@127.0.0.1:8095
CATEGORIES:Convegno
CONTACT:convegnopollinibo@arpa.emr.it
CREATED;VALUE=DATE-TIME:20130605T093630Z
DESCRIPTION:Un  convegno per presentare gli esiti del progetto triennale "
 Il monitoraggio aerobiologico alla luce dei cambiamenti climatici: Aspetti
  ambientali e sanitari"\, finanziato dalla Regione Emilia-Romagna e guidat
 o da Arpa ER
LAST-MODIFIED;VALUE=DATE-TIME:20130904T090107Z
LOCATION:Bologna\, Palazzo d'Accursio
URL:https://www.ausl.bologna.it/eventi/archivio/auslevent.2013-06-05.72411
 45714
END:VEVENT
END:VCALENDAR
