BEGIN:VCALENDAR
VERSION:2.0
PRODID:-//Plone.org//NONSGML plone.app.event//EN
X-WR-TIMEZONE:Europe/Rome
BEGIN:VEVENT
SUMMARY:Obiettivo canestro
DTSTART;VALUE=DATE-TIME:20130605T100000Z
DTEND;VALUE=DATE-TIME:20130605T110000Z
DTSTAMP;VALUE=DATE-TIME:20260421T063449Z
UID:6d3a06a55cfcfe11cf29c0ce9910af2e@127.0.0.1:8095
CATEGORIES:Inaugurazione
CREATED;VALUE=DATE-TIME:20130530T111534Z
DESCRIPTION:Mostra fotografica 
LAST-MODIFIED;VALUE=DATE-TIME:20130904T090106Z
LOCATION:Bologna\, Piazza Maggiore\, Palazzo D'Accursio
URL:https://www.ausl.bologna.it/eventi/archivio/auslevent.2013-05-30.33806
 16210
END:VEVENT
END:VCALENDAR
