BEGIN:VCALENDAR
VERSION:2.0
PRODID:-//Plone.org//NONSGML plone.app.event//EN
X-WR-TIMEZONE:Europe/Rome
BEGIN:VEVENT
SUMMARY:Il tempo che non c'era. A new period of life 
DTSTART;VALUE=DATE-TIME:20130607T070000Z
DTEND;VALUE=DATE-TIME:20130607T113000Z
DTSTAMP;VALUE=DATE-TIME:20260421T045030Z
UID:c017cd3f1aaf74ac0373abad2a0a034b@127.0.0.1:8095
CATEGORIES:seminario
CREATED;VALUE=DATE-TIME:20130524T121833Z
DESCRIPTION:L'accompagnamento delle persone disabili nel processo di invec
 chiamento
LAST-MODIFIED;VALUE=DATE-TIME:20130904T090105Z
LOCATION:Sala della Traslazione\, Centro San Domenico P.zza San Domenico\,
  12 - Bologna 
URL:https://www.ausl.bologna.it/eventi/archivio/auslevent.2013-05-24.52961
 80486
END:VEVENT
END:VCALENDAR
