BEGIN:VCALENDAR
VERSION:2.0
PRODID:-//Plone.org//NONSGML plone.app.event//EN
X-WR-TIMEZONE:Europe/Rome
BEGIN:VEVENT
SUMMARY:Liberati dal dolore
DTSTART;VALUE=DATE-TIME:20130526T080000Z
DTEND;VALUE=DATE-TIME:20130526T160000Z
DTSTAMP;VALUE=DATE-TIME:20260421T044803Z
UID:e4aabd9944c9494d16cf0787635d71dc@127.0.0.1:8095
CREATED;VALUE=DATE-TIME:20130524T101719Z
DESCRIPTION:In Piazza Santo Stefano a Bologna\, per la giornata nazionale 
 del sollievo.
LAST-MODIFIED;VALUE=DATE-TIME:20130904T090103Z
LOCATION:Bologna\, piazza Santo Stefano
URL:https://www.ausl.bologna.it/eventi/archivio/auslevent.2013-05-24.30916
 87420
END:VEVENT
END:VCALENDAR
